BEGIN:VCALENDAR
VERSION:2.0
PRODID:-//Patchogue-Medford Hall Of Fame - ECPv6.15.20//NONSGML v1.0//EN
CALSCALE:GREGORIAN
METHOD:PUBLISH
X-WR-CALNAME:Patchogue-Medford Hall Of Fame
X-ORIGINAL-URL:https://pmhof.org
X-WR-CALDESC:Events for Patchogue-Medford Hall Of Fame
REFRESH-INTERVAL;VALUE=DURATION:PT1H
X-Robots-Tag:noindex
X-PUBLISHED-TTL:PT1H
BEGIN:VTIMEZONE
TZID:America/New_York
BEGIN:DAYLIGHT
TZOFFSETFROM:-0500
TZOFFSETTO:-0400
TZNAME:EDT
DTSTART:20250309T070000
END:DAYLIGHT
BEGIN:STANDARD
TZOFFSETFROM:-0400
TZOFFSETTO:-0500
TZNAME:EST
DTSTART:20251102T060000
END:STANDARD
BEGIN:DAYLIGHT
TZOFFSETFROM:-0500
TZOFFSETTO:-0400
TZNAME:EDT
DTSTART:20260308T070000
END:DAYLIGHT
BEGIN:STANDARD
TZOFFSETFROM:-0400
TZOFFSETTO:-0500
TZNAME:EST
DTSTART:20261101T060000
END:STANDARD
BEGIN:DAYLIGHT
TZOFFSETFROM:-0500
TZOFFSETTO:-0400
TZNAME:EDT
DTSTART:20270314T070000
END:DAYLIGHT
BEGIN:STANDARD
TZOFFSETFROM:-0400
TZOFFSETTO:-0500
TZNAME:EST
DTSTART:20271107T060000
END:STANDARD
END:VTIMEZONE
BEGIN:VEVENT
DTSTART;TZID=America/New_York:20260516T170000
DTEND;TZID=America/New_York:20260516T200000
DTSTAMP:20260423T104806
CREATED:20251226T175353Z
LAST-MODIFIED:20260212T004348Z
UID:7391-1778950800-1778961600@pmhof.org
SUMMARY:1st Annual Golf Fundraiser
DESCRIPTION:Come on out and join us for an evening of fun\, food\, and friendships while raising funds for Patchogue-Medford Hall of Fame. \n  \n 
URL:https://pmhof.org/event/1st-annual-golf-fundraiser/
LOCATION:TOPGOLF\, 5231 Express Dr N\, Holtsville\, NY\, 11742\, United States
CATEGORIES:fundraising
END:VEVENT
END:VCALENDAR