BEGIN:VCALENDAR
VERSION:2.0
PRODID:-//Patchogue-Medford Hall Of Fame - ECPv6.15.20//NONSGML v1.0//EN
CALSCALE:GREGORIAN
METHOD:PUBLISH
X-WR-CALNAME:Patchogue-Medford Hall Of Fame
X-ORIGINAL-URL:https://pmhof.org
X-WR-CALDESC:Events for Patchogue-Medford Hall Of Fame
REFRESH-INTERVAL;VALUE=DURATION:PT1H
X-Robots-Tag:noindex
X-PUBLISHED-TTL:PT1H
BEGIN:VTIMEZONE
TZID:America/New_York
BEGIN:DAYLIGHT
TZOFFSETFROM:-0500
TZOFFSETTO:-0400
TZNAME:EDT
DTSTART:20240310T070000
END:DAYLIGHT
BEGIN:STANDARD
TZOFFSETFROM:-0400
TZOFFSETTO:-0500
TZNAME:EST
DTSTART:20241103T060000
END:STANDARD
BEGIN:DAYLIGHT
TZOFFSETFROM:-0500
TZOFFSETTO:-0400
TZNAME:EDT
DTSTART:20250309T070000
END:DAYLIGHT
BEGIN:STANDARD
TZOFFSETFROM:-0400
TZOFFSETTO:-0500
TZNAME:EST
DTSTART:20251102T060000
END:STANDARD
BEGIN:DAYLIGHT
TZOFFSETFROM:-0500
TZOFFSETTO:-0400
TZNAME:EDT
DTSTART:20260308T070000
END:DAYLIGHT
BEGIN:STANDARD
TZOFFSETFROM:-0400
TZOFFSETTO:-0500
TZNAME:EST
DTSTART:20261101T060000
END:STANDARD
END:VTIMEZONE
BEGIN:VEVENT
DTSTART;TZID=America/New_York:20250926T180000
DTEND;TZID=America/New_York:20250926T210000
DTSTAMP:20260423T154806
CREATED:20250614T040007Z
LAST-MODIFIED:20250615T174333Z
UID:7008-1758909600-1758920400@pmhof.org
SUMMARY:2025 Veterans Recognition Football Game
DESCRIPTION:  \n 
URL:https://pmhof.org/event/2025-veterans-recognition-football-game/
LOCATION:Patchogue-Medford High School\, 181 Buffalo Ave\, Medford\, NY\, 11763\, United States
CATEGORIES:Recognition
ATTACH;FMTTYPE=image/webp:https://pmhof.org/wp-content/uploads/2025/09/pmhof-vets-recog-night.webp
END:VEVENT
END:VCALENDAR